BEGIN:VCALENDAR
VERSION:2.0
PRODID:-//Kevin White Racing - ECPv6.15.20//NONSGML v1.0//EN
CALSCALE:GREGORIAN
METHOD:PUBLISH
X-WR-CALNAME:Kevin White Racing
X-ORIGINAL-URL:https://www.kwhiteracing.com
X-WR-CALDESC:Events for Kevin White Racing
REFRESH-INTERVAL;VALUE=DURATION:PT1H
X-Robots-Tag:noindex
X-PUBLISHED-TTL:PT1H
BEGIN:VTIMEZONE
TZID:America/Indiana/Indianapolis
BEGIN:DAYLIGHT
TZOFFSETFROM:-0500
TZOFFSETTO:-0400
TZNAME:EDT
DTSTART:20240310T070000
END:DAYLIGHT
BEGIN:STANDARD
TZOFFSETFROM:-0400
TZOFFSETTO:-0500
TZNAME:EST
DTSTART:20241103T060000
END:STANDARD
BEGIN:DAYLIGHT
TZOFFSETFROM:-0500
TZOFFSETTO:-0400
TZNAME:EDT
DTSTART:20250309T070000
END:DAYLIGHT
BEGIN:STANDARD
TZOFFSETFROM:-0400
TZOFFSETTO:-0500
TZNAME:EST
DTSTART:20251102T060000
END:STANDARD
BEGIN:DAYLIGHT
TZOFFSETFROM:-0500
TZOFFSETTO:-0400
TZNAME:EDT
DTSTART:20260308T070000
END:DAYLIGHT
BEGIN:STANDARD
TZOFFSETFROM:-0400
TZOFFSETTO:-0500
TZNAME:EST
DTSTART:20261101T060000
END:STANDARD
BEGIN:DAYLIGHT
TZOFFSETFROM:-0500
TZOFFSETTO:-0400
TZNAME:EDT
DTSTART:20270314T070000
END:DAYLIGHT
BEGIN:STANDARD
TZOFFSETFROM:-0400
TZOFFSETTO:-0500
TZNAME:EST
DTSTART:20271107T060000
END:STANDARD
END:VTIMEZONE
BEGIN:VEVENT
DTSTART;VALUE=DATE:20260305
DTEND;VALUE=DATE:20260309
DTSTAMP:20260425T070522
CREATED:20260115T183621Z
LAST-MODIFIED:20260115T185255Z
UID:10000017-1772668800-1773014399@www.kwhiteracing.com
SUMMARY:NHRA GATORNATIONALS
DESCRIPTION:
URL:https://www.kwhiteracing.com/event/nhra-gatornationals/
LOCATION:Gainesville Raceway\, 11211 North County Road 225\, Gainesville\, FL\, 32609\, United States
CATEGORIES:NHRA National
END:VEVENT
BEGIN:VEVENT
DTSTART;VALUE=DATE:20250313
DTEND;VALUE=DATE:20250317
DTSTAMP:20260425T070522
CREATED:20250116T234412Z
LAST-MODIFIED:20250116T234523Z
UID:10000003-1741824000-1742169599@www.kwhiteracing.com
SUMMARY:Cajun Nationals
DESCRIPTION:
URL:https://www.kwhiteracing.com/event/cajun-nationals/
LOCATION:Gainesville Raceway\, 11211 North County Road 225\, Gainesville\, FL\, 32609\, United States
CATEGORIES:Division 4 National Event
END:VEVENT
BEGIN:VEVENT
DTSTART;VALUE=DATE:20250306
DTEND;VALUE=DATE:20250310
DTSTAMP:20260425T070522
CREATED:20250116T233950Z
LAST-MODIFIED:20250116T233950Z
UID:10000002-1741219200-1741564799@www.kwhiteracing.com
SUMMARY:Gator Nationals
DESCRIPTION:
URL:https://www.kwhiteracing.com/event/gator-nationals/
LOCATION:Gainesville Raceway\, 11211 North County Road 225\, Gainesville\, FL\, 32609\, United States
CATEGORIES:NHRA National
END:VEVENT
BEGIN:VEVENT
DTSTART;VALUE=DATE:20250227
DTEND;VALUE=DATE:20250303
DTSTAMP:20260425T070522
CREATED:20250116T223832Z
LAST-MODIFIED:20250116T231520Z
UID:10000001-1740614400-1740959999@www.kwhiteracing.com
SUMMARY:Baby Gator
DESCRIPTION:
URL:https://www.kwhiteracing.com/event/baby-gator/
LOCATION:Gainesville Raceway\, 11211 North County Road 225\, Gainesville\, FL\, 32609\, United States
CATEGORIES:NHRA Division 2
END:VEVENT
END:VCALENDAR